BEGIN:VCALENDAR
VERSION:2.0
PRODID:-//Struthonia.ch - ECPv6.15.17.1//NONSGML v1.0//EN
CALSCALE:GREGORIAN
METHOD:PUBLISH
X-ORIGINAL-URL:https://struthonia.ch
X-WR-CALDESC:Veranstaltungen für Struthonia.ch
REFRESH-INTERVAL;VALUE=DURATION:PT1H
X-Robots-Tag:noindex
X-PUBLISHED-TTL:PT1H
BEGIN:VTIMEZONE
TZID:Europe/Zurich
BEGIN:DAYLIGHT
TZOFFSETFROM:+0100
TZOFFSETTO:+0200
TZNAME:CEST
DTSTART:20250330T010000
END:DAYLIGHT
BEGIN:STANDARD
TZOFFSETFROM:+0200
TZOFFSETTO:+0100
TZNAME:CET
DTSTART:20251026T010000
END:STANDARD
BEGIN:DAYLIGHT
TZOFFSETFROM:+0100
TZOFFSETTO:+0200
TZNAME:CEST
DTSTART:20260329T010000
END:DAYLIGHT
BEGIN:STANDARD
TZOFFSETFROM:+0200
TZOFFSETTO:+0100
TZNAME:CET
DTSTART:20261025T010000
END:STANDARD
BEGIN:DAYLIGHT
TZOFFSETFROM:+0100
TZOFFSETTO:+0200
TZNAME:CEST
DTSTART:20270328T010000
END:DAYLIGHT
BEGIN:STANDARD
TZOFFSETFROM:+0200
TZOFFSETTO:+0100
TZNAME:CET
DTSTART:20271031T010000
END:STANDARD
END:VTIMEZONE
BEGIN:VEVENT
DTSTART;TZID=Europe/Zurich:20260212T230000
DTEND;TZID=Europe/Zurich:20260213T020000
DTSTAMP:20260419T174641
CREATED:20250826T210955Z
LAST-MODIFIED:20250826T210955Z
UID:224-1770937200-1770948000@struthonia.ch
SUMMARY:Mitternachtsstamm
DESCRIPTION:
URL:https://struthonia.ch/anlass/mitternachtsstamm-2/
LOCATION:Jilge-Bar\, Mürgstrasse 9\, Stans\, 6370\, Switzerland
CATEGORIES:c.p.n.s.,c.t.,Inoffiziell
ORGANIZER;CN="GV Struthonia":MAILTO:admin@struthonia.ch
END:VEVENT
END:VCALENDAR