BEGIN:VCALENDAR
VERSION:2.0
PRODID:-//Struthonia.ch - ECPv6.15.17.1//NONSGML v1.0//EN
CALSCALE:GREGORIAN
METHOD:PUBLISH
X-ORIGINAL-URL:https://struthonia.ch
X-WR-CALDESC:Veranstaltungen für Struthonia.ch
REFRESH-INTERVAL;VALUE=DURATION:PT1H
X-Robots-Tag:noindex
X-PUBLISHED-TTL:PT1H
BEGIN:VTIMEZONE
TZID:Europe/Zurich
BEGIN:DAYLIGHT
TZOFFSETFROM:+0100
TZOFFSETTO:+0200
TZNAME:CEST
DTSTART:20250330T010000
END:DAYLIGHT
BEGIN:STANDARD
TZOFFSETFROM:+0200
TZOFFSETTO:+0100
TZNAME:CET
DTSTART:20251026T010000
END:STANDARD
BEGIN:DAYLIGHT
TZOFFSETFROM:+0100
TZOFFSETTO:+0200
TZNAME:CEST
DTSTART:20260329T010000
END:DAYLIGHT
BEGIN:STANDARD
TZOFFSETFROM:+0200
TZOFFSETTO:+0100
TZNAME:CET
DTSTART:20261025T010000
END:STANDARD
BEGIN:DAYLIGHT
TZOFFSETFROM:+0100
TZOFFSETTO:+0200
TZNAME:CEST
DTSTART:20270328T010000
END:DAYLIGHT
BEGIN:STANDARD
TZOFFSETFROM:+0200
TZOFFSETTO:+0100
TZNAME:CET
DTSTART:20271031T010000
END:STANDARD
END:VTIMEZONE
BEGIN:VEVENT
DTSTART;TZID=Europe/Zurich:20260103T200000
DTEND;TZID=Europe/Zurich:20260103T220000
DTSTAMP:20260419T161043
CREATED:20250826T210804Z
LAST-MODIFIED:20250826T210804Z
UID:220-1767470400-1767477600@struthonia.ch
SUMMARY:Dreikönigsstamm
DESCRIPTION:
URL:https://struthonia.ch/anlass/dreikoenigsstamm/
LOCATION:Melachere\, Schmiedgasse 10\, Stans\, Nidwladen\, 6070\, Switzerland
CATEGORIES:c.p.s.,c.t.,Offiziell
ORGANIZER;CN="GV Struthonia":MAILTO:admin@struthonia.ch
END:VEVENT
BEGIN:VEVENT
DTSTART;TZID=Europe/Zurich:20260131T200000
DTEND;TZID=Europe/Zurich:20260131T220000
DTSTAMP:20260419T161043
CREATED:20250826T210844Z
LAST-MODIFIED:20250826T210844Z
UID:222-1769889600-1769896800@struthonia.ch
SUMMARY:Krambambuli
DESCRIPTION:
URL:https://struthonia.ch/anlass/krambambuli-2/
LOCATION:Schützenhaus Herdern\, Wehrverein Ennetbürgen\, Ennetbürgen\, 6373\, Switzerland
CATEGORIES:c.p.s.,c.t.,Hochoffiziell
ORGANIZER;CN="GV Struthonia":MAILTO:admin@struthonia.ch
END:VEVENT
END:VCALENDAR